BEGIN:VCALENDAR
VERSION:2.0
PRODID:-//PYVOBJECT//NONSGML Version 0.9.9//EN
X-WR-TIMEZONE:Africa/Johannesburg
BEGIN:VTIMEZONE
TZID:Africa/Johannesburg
BEGIN:STANDARD
DTSTART:20000101T000000
RRULE:FREQ=YEARLY;BYMONTH=1
TZNAME:SAST
TZOFFSETFROM:+0200
TZOFFSETTO:+0200
END:STANDARD
END:VTIMEZONE
BEGIN:VEVENT
UID:20260422T090042Z - 18865@eos-content
DTSTART;TZID=Africa/Johannesburg:20260429T150000
DTEND;TZID=Africa/Johannesburg:20260429T170000
ATTENDEE:MAILTO:granny.mohapi@realnet.co.za
ATTENDEE:MAILTO:mogaum@realnet.co.za
DESCRIPTION:https://www.realnet.co.za/results/residential/for-sale/rustenbu
 rg/waterkloof-east/house/3148241/\n\nCALL FOR AN APPOINTMENT AT ANY TIME\n
 \nGranny Mohapi (071 706 8565)\n\nMogau Mashego (071 877 7874)
DTSTAMP:20260422T090042Z
LOCATION:Waterkloof East\, Rustenburg
SUMMARY:RealNet Show Day - RLS740861
END:VEVENT
END:VCALENDAR
